BEGIN:VCALENDAR
VERSION:2.0
PRODID:-//The Historic Milleridge Inn - ECPv6.15.20//NONSGML v1.0//EN
CALSCALE:GREGORIAN
METHOD:PUBLISH
X-ORIGINAL-URL:https://milleridgeinn.com
X-WR-CALDESC:Events for The Historic Milleridge Inn
REFRESH-INTERVAL;VALUE=DURATION:PT1H
X-Robots-Tag:noindex
X-PUBLISHED-TTL:PT1H
BEGIN:VTIMEZONE
TZID:UTC
BEGIN:STANDARD
TZOFFSETFROM:+0000
TZOFFSETTO:+0000
TZNAME:UTC
DTSTART:20240101T000000
END:STANDARD
END:VTIMEZONE
BEGIN:VEVENT
DTSTART;VALUE=DATE:20250314
DTEND;VALUE=DATE:20250318
DTSTAMP:20260422T210238
CREATED:20250217T041814Z
LAST-MODIFIED:20250303T234018Z
UID:10002346-1741910400-1742255999@milleridgeinn.com
SUMMARY:St. Patricks Shenanigans at the Milleridge Inn
DESCRIPTION:St. Patrick’s Day Shenanigans at The Historic Milleridge Inn\nGet ready for an unforgettable St. Patrick’s Day celebration at The Historic Milleridge Inn! Join us for four days of festive fun\, lively entertainment\, and traditional Irish cheer as we bring the spirit of the Emerald Isle to Long Island. \n🎶 Step Dancers 🎶 Feel the rhythm of Ireland with high-energy Step Dancers performing throughout the weekend! Their dazzling footwork and infectious energy will have you clapping along and feeling the St. Paddy’s spirit. \n\nFriday\, March 14 | 5:00 PM – 8:00 PM\nSaturday\, March 15 | 3:00 PM – 8:00 PM\nSunday\, March 16 | 1:00 PM – 7:00 PM\nMonday\, March 17 | 1:00 PM – 8:00 PM\n\n🎵 Bagpiper Performances 🎵 Nothing says St. Patrick’s Day like the stirring sound of the bagpipes! Enjoy the soul-stirring melodies of our talented bagpiper as he fills the air with traditional Irish tunes. \n\nFriday\, March 14 | 5:00 PM – 8:00 PM\nSaturday\, March 15 | 3:00 PM – 8:00 PM\nSunday\, March 16 | 1:00 PM – 7:00 PM\nMonday\, March 17 | 12:00 PM – 8:00 PM\n\n🍀 Celebrate St. Paddy’s in Style! 🍀 Enjoy classic Irish fare\, festive drinks\, and an atmosphere brimming with laughter and good times. We will have drink specials accompanied by authentic Irish fare. Whether you’re here for the dancing\, the music\, or a pint\, The Milleridge Inn is the place to be this St. Patrick’s Day weekend! \n📍 The Historic Milleridge Inn\n🗓️ March 14 – March 17\, 2025\n🎟️ Reservations Recommended! Book now on OpenTable. \nCome join the shenanigans and make this St. Patrick’s Day one to remember! Sláinte! 🍻
URL:https://milleridgeinn.com/event/st-patricks-shenanigans-at-the-milleridge-inn/
LOCATION:The Milleridge Inn\, 585 North Broadway\, Jericho\, NY\, 11753\, United States
CATEGORIES:Food & Drink,Music
ATTACH;FMTTYPE=image/webp:https://milleridgeinn.com/wp-content/uploads/2025/02/MILLERIDGe-INN-St.avif
END:VEVENT
BEGIN:VEVENT
DTSTART;TZID=UTC:20250316T113000
DTEND;TZID=UTC:20250316T153000
DTSTAMP:20260422T210238
CREATED:20250227T122326Z
LAST-MODIFIED:20250227T122326Z
UID:10002363-1742124600-1742139000@milleridgeinn.com
SUMMARY:St. Patricks Day Brunch
DESCRIPTION:St. Patrick’s Day Brunch at The Milleridge Inn! ☘️🥂 \nKick off your St. Patrick’s Day celebrations with a festive Pregame Brunch at The Milleridge Inn! Enjoy a delicious spread of brunch favorites\, Irish-inspired specials\, and refreshing mimosas in a lively atmosphere. Get into the holiday spirit with great food\, drinks\, and fun before the big festivities begin! \nReserve your table now and start St. Patrick’s Day the right way! 🍀✨
URL:https://milleridgeinn.com/event/st-patricks-day-brunch/
LOCATION:The Milleridge Inn\, 585 North Broadway\, Jericho\, NY\, 11753\, United States
CATEGORIES:Festivals & Fairs,Food & Drink
ATTACH;FMTTYPE=image/webp:https://milleridgeinn.com/wp-content/uploads/2025/02/LRSUNDAY-MARCH-16-Milleridge-St-Patricks-Brunch-2025.avif
END:VEVENT
END:VCALENDAR