BEGIN:VCALENDAR
VERSION:2.0
PRODID:-//The Historic Milleridge Inn - ECPv6.15.20//NONSGML v1.0//EN
CALSCALE:GREGORIAN
METHOD:PUBLISH
X-ORIGINAL-URL:https://milleridgeinn.com
X-WR-CALDESC:Events for The Historic Milleridge Inn
REFRESH-INTERVAL;VALUE=DURATION:PT1H
X-Robots-Tag:noindex
X-PUBLISHED-TTL:PT1H
BEGIN:VTIMEZONE
TZID:UTC
BEGIN:STANDARD
TZOFFSETFROM:+0000
TZOFFSETTO:+0000
TZNAME:UTC
DTSTART:20240101T000000
END:STANDARD
END:VTIMEZONE
BEGIN:VEVENT
DTSTART;TZID=UTC:20251226T110000
DTEND;TZID=UTC:20260104T200000
DTSTAMP:20260420T211652
CREATED:20251223T114813Z
LAST-MODIFIED:20251223T114813Z
UID:10002462-1766746800-1767556800@milleridgeinn.com
SUMMARY:Winter Break Escape
DESCRIPTION:
URL:https://milleridgeinn.com/event/winter-break-escape/
LOCATION:The Milleridge Village\, 585 North Broadway\, Jericho\, NY\, 11753\, United States
CATEGORIES:Food & Drink,Kids & Family
ATTACH;FMTTYPE=image/webp:https://milleridgeinn.com/wp-content/uploads/2025/12/Winter-Break-2026-Recovered.avif
END:VEVENT
BEGIN:VEVENT
DTSTART;TZID=UTC:20260101T113000
DTEND;TZID=UTC:20260101T170000
DTSTAMP:20260420T211652
CREATED:20251209T123905Z
LAST-MODIFIED:20251209T124738Z
UID:10002459-1767267000-1767286800@milleridgeinn.com
SUMMARY:New Years Day Brunch
DESCRIPTION:
URL:https://milleridgeinn.com/event/new-years-day-brunch/
LOCATION:The Milleridge Inn\, 585 North Broadway\, Jericho\, NY\, 11753\, United States
CATEGORIES:Food & Drink,Kids & Family
ATTACH;FMTTYPE=image/webp:https://milleridgeinn.com/wp-content/uploads/2025/12/NYE-Brunch-2025.avif
END:VEVENT
BEGIN:VEVENT
DTSTART;TZID=UTC:20260103T173000
DTEND;TZID=UTC:20260103T210000
DTSTAMP:20260420T211652
CREATED:20251223T121159Z
LAST-MODIFIED:20251230T181243Z
UID:10002465-1767461400-1767474000@milleridgeinn.com
SUMMARY:Snowy Soiree
DESCRIPTION:
URL:https://milleridgeinn.com/event/snowy-soiree/
LOCATION:The Milleridge Inn\, 585 North Broadway\, Jericho\, NY\, 11753\, United States
CATEGORIES:Food & Drink,Kids & Family
ATTACH;FMTTYPE=image/webp:https://milleridgeinn.com/wp-content/uploads/2025/12/Milleridge-Winter-Friends-Dinner.avif
END:VEVENT
BEGIN:VEVENT
DTSTART;TZID=UTC:20260110T183000
DTEND;TZID=UTC:20260110T220000
DTSTAMP:20260420T211652
CREATED:20251009T151916Z
LAST-MODIFIED:20251009T151954Z
UID:10002446-1768069800-1768082400@milleridgeinn.com
SUMMARY:Disco Party featuring Vinyl Revival
DESCRIPTION:Kick off the new year at The Milleridge Cottage with a high-energy Disco Party featuring Vinyl Revival on Saturday\, January 10th! Enjoy a night of music\, dancing\, and a delicious 3-course dinner with open bar. Doors open at 6:30 PM\, show starts at 7:00 PM. $85.95 per person (+tax) — prepaid reservations required.
URL:https://milleridgeinn.com/event/disco-party-featuring-vinyl-revival/
LOCATION:The Milleridge Inn\, 585 North Broadway\, Jericho\, NY\, 11753\, United States
CATEGORIES:Food & Drink,Music,Nightlife
ATTACH;FMTTYPE=image/webp:https://milleridgeinn.com/wp-content/uploads/2025/10/Milleridge_Vinyl_Revival_2.avif
END:VEVENT
BEGIN:VEVENT
DTSTART;TZID=UTC:20260124T100000
DTEND;TZID=UTC:20260124T120000
DTSTAMP:20260420T211652
CREATED:20251223T174122Z
LAST-MODIFIED:20260106T191646Z
UID:10002466-1769248800-1769256000@milleridgeinn.com
SUMMARY:Golden Ticket Brunch
DESCRIPTION:
URL:https://milleridgeinn.com/event/golden-ticket-brunch/
LOCATION:The Milleridge Inn\, 585 North Broadway\, Jericho\, NY\, 11753\, United States
CATEGORIES:Food & Drink,Kids & Family
ATTACH;FMTTYPE=image/webp:https://milleridgeinn.com/wp-content/uploads/2025/12/Milleridge_Golden_Ticket_Brunch.avif
END:VEVENT
END:VCALENDAR